BEGIN:VCALENDAR
PRODID:-//eama-g11444//EN
VERSION:2.0
BEGIN:VEVENT
SUMMARY:EAMA Group: Reseller Opportunity: Mixed Pallets of Stock from Amazon &amp; More – New &amp; Customer Return stock - DELIVERY AVAILABLE- Ends -Thu 30th April 11am
PRIORITY:0
CLASS:PUBLIC
DTSTART:20260331T230000Z
DTEND:20260430T100000Z
DESCRIPTION:
X-ALT-DESC;FMTTYPE=text/html:
LOCATION: , SEE DESCRIPTION, United Kingdom
END:VEVENT
END:VCALENDAR