BEGIN:VCALENDAR
PRODID:-//eama-g11443//EN
VERSION:2.0
BEGIN:VEVENT
SUMMARY:EAMA Group: 18,000 x USED THERMAL PRINTERS - JOBLOT CLEARANCE! Ends Thur -30th April 11.30am
PRIORITY:0
CLASS:PUBLIC
DTSTART:20260331T230000Z
DTEND:20260430T103000Z
DESCRIPTION:
X-ALT-DESC;FMTTYPE=text/html:
LOCATION: , SEE DESCRIPTION -  DELIVERY AVAILABLE, United Kingdom
END:VEVENT
END:VCALENDAR