BEGIN:VCALENDAR
PRODID:-//eama-g11428//EN
VERSION:2.0
BEGIN:VEVENT
SUMMARY:EAMA Group: LIQUIDATION OF NEW PREFABRICATED GARDEN ROOMS / OFFICE / TINY HOMES ON BEHALF OF WWW.ADACON.CO.UK - ENDING 23rd April 11am
PRIORITY:0
CLASS:PUBLIC
DTSTART:20260413T230000Z
DTEND:20260424T142320Z
DESCRIPTION:
X-ALT-DESC;FMTTYPE=text/html:
LOCATION:  ,   ,   , See Description,   , United Kingdom
END:VEVENT
END:VCALENDAR